BEGIN:VCALENDAR
VERSION:2.0
PRODID:-//Coventry High School Alumni Association, Inc. - ECPv6.15.13//NONSGML v1.0//EN
CALSCALE:GREGORIAN
METHOD:PUBLISH
X-ORIGINAL-URL:https://oakeralumni.org
X-WR-CALDESC:Events for Coventry High School Alumni Association, Inc.
REFRESH-INTERVAL;VALUE=DURATION:PT1H
X-Robots-Tag:noindex
X-PUBLISHED-TTL:PT1H
BEGIN:VTIMEZONE
TZID:America/New_York
BEGIN:DAYLIGHT
TZOFFSETFROM:-0500
TZOFFSETTO:-0400
TZNAME:EDT
DTSTART:20230312T070000
END:DAYLIGHT
BEGIN:STANDARD
TZOFFSETFROM:-0400
TZOFFSETTO:-0500
TZNAME:EST
DTSTART:20231105T060000
END:STANDARD
BEGIN:DAYLIGHT
TZOFFSETFROM:-0500
TZOFFSETTO:-0400
TZNAME:EDT
DTSTART:20240310T070000
END:DAYLIGHT
BEGIN:STANDARD
TZOFFSETFROM:-0400
TZOFFSETTO:-0500
TZNAME:EST
DTSTART:20241103T060000
END:STANDARD
BEGIN:DAYLIGHT
TZOFFSETFROM:-0500
TZOFFSETTO:-0400
TZNAME:EDT
DTSTART:20250309T070000
END:DAYLIGHT
BEGIN:STANDARD
TZOFFSETFROM:-0400
TZOFFSETTO:-0500
TZNAME:EST
DTSTART:20251102T060000
END:STANDARD
END:VTIMEZONE
BEGIN:VEVENT
DTSTART;TZID=America/New_York:20241106T170000
DTEND;TZID=America/New_York:20241106T210000
DTSTAMP:20260424T191444
CREATED:20240919T190033Z
LAST-MODIFIED:20240919T190033Z
UID:3952-1730912400-1730926800@oakeralumni.org
SUMMARY:CHSAA Hall of Fame Induction Ceremony
DESCRIPTION:The 2024 Hall of Fame Induction ceremony will be held November 6th at Quidnessett Country Club. \nMore information on tickets to come soon.
URL:https://oakeralumni.org/event/chsaa-hall-of-fame-induction-ceremony/
LOCATION:Quidnessett Country Club\, 950 N Quidnessett Rd\, North Kingstown\, RI\, 02852\, United States
CATEGORIES:Hall of Fame
END:VEVENT
END:VCALENDAR