BEGIN:VCALENDAR
VERSION:2.0
PRODID:-//Coventry High School Alumni Association, Inc. - ECPv6.15.13//NONSGML v1.0//EN
CALSCALE:GREGORIAN
METHOD:PUBLISH
X-WR-CALNAME:Coventry High School Alumni Association, Inc.
X-ORIGINAL-URL:https://oakeralumni.org
X-WR-CALDESC:Events for Coventry High School Alumni Association, Inc.
REFRESH-INTERVAL;VALUE=DURATION:PT1H
X-Robots-Tag:noindex
X-PUBLISHED-TTL:PT1H
BEGIN:VTIMEZONE
TZID:America/New_York
BEGIN:DAYLIGHT
TZOFFSETFROM:-0500
TZOFFSETTO:-0400
TZNAME:EDT
DTSTART:20230312T070000
END:DAYLIGHT
BEGIN:STANDARD
TZOFFSETFROM:-0400
TZOFFSETTO:-0500
TZNAME:EST
DTSTART:20231105T060000
END:STANDARD
BEGIN:DAYLIGHT
TZOFFSETFROM:-0500
TZOFFSETTO:-0400
TZNAME:EDT
DTSTART:20240310T070000
END:DAYLIGHT
BEGIN:STANDARD
TZOFFSETFROM:-0400
TZOFFSETTO:-0500
TZNAME:EST
DTSTART:20241103T060000
END:STANDARD
BEGIN:DAYLIGHT
TZOFFSETFROM:-0500
TZOFFSETTO:-0400
TZNAME:EDT
DTSTART:20250309T070000
END:DAYLIGHT
BEGIN:STANDARD
TZOFFSETFROM:-0400
TZOFFSETTO:-0500
TZNAME:EST
DTSTART:20251102T060000
END:STANDARD
END:VTIMEZONE
BEGIN:VEVENT
DTSTART;TZID=America/New_York:20240509T110000
DTEND;TZID=America/New_York:20240509T123000
DTSTAMP:20260424T225012
CREATED:20240426T142628Z
LAST-MODIFIED:20240426T144324Z
UID:3708-1715252400-1715257800@oakeralumni.org
SUMMARY:CHSAA Luncheon at Knotty Oak Room
DESCRIPTION:Please join us for a luncheon at the Knotty Oak Room at CHS on May 9th at 11am.  This will run until about 12:15pm \nTickets can be purchased by clicking here. \nLook forward to seeing you \n  \n 
URL:https://oakeralumni.org/event/chsaa-luncheon-at-knotty-oak-room-may-9th-2024/
LOCATION:Coventry High School\, 40 Reservoir Road\, Coventry\, RI\, 02816\, United States
END:VEVENT
BEGIN:VEVENT
DTSTART;TZID=America/New_York:20240523T180000
DTEND;TZID=America/New_York:20240523T210000
DTSTAMP:20260424T225012
CREATED:20240422T175648Z
LAST-MODIFIED:20240422T175648Z
UID:3805-1716487200-1716498000@oakeralumni.org
SUMMARY:PV Rotary / CHSAA Beer Tasting Fundraiser
DESCRIPTION:The PV Rotary and CHSAA will be hosting a beer tasting fundraiser on 5/23 from 6pm – 9pm. \nTo purchase tickets click here. \n20
URL:https://oakeralumni.org/event/pv-rotary-chsaa-beer-tasting-fundraiser/
LOCATION:Line Sider Brewing Co\, 1485 South County Trail\, #201\, East Greenwich\, Rhode Island
END:VEVENT
END:VCALENDAR