BEGIN:VCALENDAR
VERSION:2.0
PRODID:-//Coventry High School Alumni Association, Inc. - ECPv6.15.13//NONSGML v1.0//EN
CALSCALE:GREGORIAN
METHOD:PUBLISH
X-ORIGINAL-URL:https://oakeralumni.org
X-WR-CALDESC:Events for Coventry High School Alumni Association, Inc.
REFRESH-INTERVAL;VALUE=DURATION:PT1H
X-Robots-Tag:noindex
X-PUBLISHED-TTL:PT1H
BEGIN:VTIMEZONE
TZID:America/New_York
BEGIN:DAYLIGHT
TZOFFSETFROM:-0500
TZOFFSETTO:-0400
TZNAME:EDT
DTSTART:20250309T070000
END:DAYLIGHT
BEGIN:STANDARD
TZOFFSETFROM:-0400
TZOFFSETTO:-0500
TZNAME:EST
DTSTART:20251102T060000
END:STANDARD
BEGIN:DAYLIGHT
TZOFFSETFROM:-0500
TZOFFSETTO:-0400
TZNAME:EDT
DTSTART:20260308T070000
END:DAYLIGHT
BEGIN:STANDARD
TZOFFSETFROM:-0400
TZOFFSETTO:-0500
TZNAME:EST
DTSTART:20261101T060000
END:STANDARD
BEGIN:DAYLIGHT
TZOFFSETFROM:-0500
TZOFFSETTO:-0400
TZNAME:EDT
DTSTART:20270314T070000
END:DAYLIGHT
BEGIN:STANDARD
TZOFFSETFROM:-0400
TZOFFSETTO:-0500
TZNAME:EST
DTSTART:20271107T060000
END:STANDARD
END:VTIMEZONE
BEGIN:VEVENT
DTSTART;TZID=America/New_York:20260212T113000
DTEND;TZID=America/New_York:20260212T133000
DTSTAMP:20260423T201508
CREATED:20260107T161106Z
LAST-MODIFIED:20260109T133627Z
UID:4196-1770895800-1770903000@oakeralumni.org
SUMMARY:Knotty Oak Room Luncheon
DESCRIPTION:We will be hosting a social gathering for CHSAA at the Knotty Oak Room February 12\, 2026. \nPlease consider coming and enjoying the great food produced by the students and staff of CHS! \nThe cost is $20
URL:https://oakeralumni.org/event/luncheon/
LOCATION:Knotty Oak Room\, CHS\, 40 Reservoir Road\, Coventry\, RI\, 02816\, United States
END:VEVENT
BEGIN:VEVENT
DTSTART;TZID=America/New_York:20260305T183000
DTEND;TZID=America/New_York:20260305T220000
DTSTAMP:20260423T201508
CREATED:20260107T160618Z
LAST-MODIFIED:20260206T155405Z
UID:4190-1772735400-1772748000@oakeralumni.org
SUMMARY:Arctic Playhouse Event
DESCRIPTION:Come enjoy the play The Murders of 1940! \nThis play is a comedic murder mystery by John Bishop\, known for its witty dialogue\, farcical situations\, and a whodunit plot set during a rehearsal for a new musical. \nThere will be sandwiches\, salads\, and pastries available with a cash bar for drinks.  There will be basket raffles\, a 50/50 raffles\, and wine bottles with at least a $25 gift card included for sale for $20.  Reception at 6:30 PM.  The play starts at 7:30 PM. \nCost is $25 for a fun evening.  Please join us! \nProceeds will benefit PV Rotary Club\, The CHSAA\, and the Arctic Playhouse \nClick on the ticket below to purchase!
URL:https://oakeralumni.org/event/artic-playhouse-event/
LOCATION:Arctic Playhouse\, 249 Main St\, West Warwick\, RI\, United States
END:VEVENT
END:VCALENDAR