BEGIN:VCALENDAR
VERSION:2.0
PRODID:-//Coventry High School Alumni Association, Inc. - ECPv6.15.13//NONSGML v1.0//EN
CALSCALE:GREGORIAN
METHOD:PUBLISH
X-WR-CALNAME:Coventry High School Alumni Association, Inc.
X-ORIGINAL-URL:https://oakeralumni.org
X-WR-CALDESC:Events for Coventry High School Alumni Association, Inc.
REFRESH-INTERVAL;VALUE=DURATION:PT1H
X-Robots-Tag:noindex
X-PUBLISHED-TTL:PT1H
BEGIN:VTIMEZONE
TZID:America/New_York
BEGIN:DAYLIGHT
TZOFFSETFROM:-0500
TZOFFSETTO:-0400
TZNAME:EDT
DTSTART:20250309T070000
END:DAYLIGHT
BEGIN:STANDARD
TZOFFSETFROM:-0400
TZOFFSETTO:-0500
TZNAME:EST
DTSTART:20251102T060000
END:STANDARD
BEGIN:DAYLIGHT
TZOFFSETFROM:-0500
TZOFFSETTO:-0400
TZNAME:EDT
DTSTART:20260308T070000
END:DAYLIGHT
BEGIN:STANDARD
TZOFFSETFROM:-0400
TZOFFSETTO:-0500
TZNAME:EST
DTSTART:20261101T060000
END:STANDARD
BEGIN:DAYLIGHT
TZOFFSETFROM:-0500
TZOFFSETTO:-0400
TZNAME:EDT
DTSTART:20270314T070000
END:DAYLIGHT
BEGIN:STANDARD
TZOFFSETFROM:-0400
TZOFFSETTO:-0500
TZNAME:EST
DTSTART:20271107T060000
END:STANDARD
END:VTIMEZONE
BEGIN:VEVENT
DTSTART;TZID=America/New_York:20260124T090000
DTEND;TZID=America/New_York:20260124T110000
DTSTAMP:20260423T180413
CREATED:20260107T161638Z
LAST-MODIFIED:20260108T134614Z
UID:4200-1769245200-1769252400@oakeralumni.org
SUMMARY:Annual Alumni CHSAA Breakfast
DESCRIPTION:Come join us for a great breakfast at Old Theater Diner \nTickets are $25 and proceeds go to fund our grants and scholarships for 2026
URL:https://oakeralumni.org/event/annual-alumni-chsaa-breakfast/
LOCATION:Olde Theater Diner
END:VEVENT
END:VCALENDAR