BEGIN:VCALENDAR
VERSION:2.0
PRODID:-//Coventry High School Alumni Association, Inc. - ECPv6.15.13//NONSGML v1.0//EN
CALSCALE:GREGORIAN
METHOD:PUBLISH
X-WR-CALNAME:Coventry High School Alumni Association, Inc.
X-ORIGINAL-URL:https://oakeralumni.org
X-WR-CALDESC:Events for Coventry High School Alumni Association, Inc.
REFRESH-INTERVAL;VALUE=DURATION:PT1H
X-Robots-Tag:noindex
X-PUBLISHED-TTL:PT1H
BEGIN:VTIMEZONE
TZID:America/New_York
BEGIN:DAYLIGHT
TZOFFSETFROM:-0500
TZOFFSETTO:-0400
TZNAME:EDT
DTSTART:20240310T070000
END:DAYLIGHT
BEGIN:STANDARD
TZOFFSETFROM:-0400
TZOFFSETTO:-0500
TZNAME:EST
DTSTART:20241103T060000
END:STANDARD
BEGIN:DAYLIGHT
TZOFFSETFROM:-0500
TZOFFSETTO:-0400
TZNAME:EDT
DTSTART:20250309T070000
END:DAYLIGHT
BEGIN:STANDARD
TZOFFSETFROM:-0400
TZOFFSETTO:-0500
TZNAME:EST
DTSTART:20251102T060000
END:STANDARD
BEGIN:DAYLIGHT
TZOFFSETFROM:-0500
TZOFFSETTO:-0400
TZNAME:EDT
DTSTART:20260308T070000
END:DAYLIGHT
BEGIN:STANDARD
TZOFFSETFROM:-0400
TZOFFSETTO:-0500
TZNAME:EST
DTSTART:20261101T060000
END:STANDARD
END:VTIMEZONE
BEGIN:VEVENT
DTSTART;TZID=America/New_York:20250409T183000
DTEND;TZID=America/New_York:20250409T210000
DTSTAMP:20260424T071817
CREATED:20250219T213741Z
LAST-MODIFIED:20250219T213741Z
UID:4095-1744223400-1744232400@oakeralumni.org
SUMMARY:Arctic Playhouse Fundraiser
DESCRIPTION:CHSAA will be having a fundraiser at the Arctic Playhouse with the performance of the play “Picnic”. \nThe play is April 9\, 2025 at 6:30pm.  Tickets are $25 and can be purchased below with the Buy Tickets image below. \nTo read about the play click on this https://thearcticplayhouse.com/shows/2024/picnic/
URL:https://oakeralumni.org/event/arctic-playhouse-fundraiser/
LOCATION:Arctic Playhouse\, 249 Main St\, West Warwick\, RI\, United States
END:VEVENT
END:VCALENDAR