BEGIN:VCALENDAR
VERSION:2.0
PRODID:-//Coventry High School Alumni Association, Inc. - ECPv6.15.13//NONSGML v1.0//EN
CALSCALE:GREGORIAN
METHOD:PUBLISH
X-WR-CALNAME:Coventry High School Alumni Association, Inc.
X-ORIGINAL-URL:https://oakeralumni.org
X-WR-CALDESC:Events for Coventry High School Alumni Association, Inc.
REFRESH-INTERVAL;VALUE=DURATION:PT1H
X-Robots-Tag:noindex
X-PUBLISHED-TTL:PT1H
BEGIN:VTIMEZONE
TZID:America/New_York
BEGIN:DAYLIGHT
TZOFFSETFROM:-0500
TZOFFSETTO:-0400
TZNAME:EDT
DTSTART:20240310T070000
END:DAYLIGHT
BEGIN:STANDARD
TZOFFSETFROM:-0400
TZOFFSETTO:-0500
TZNAME:EST
DTSTART:20241103T060000
END:STANDARD
BEGIN:DAYLIGHT
TZOFFSETFROM:-0500
TZOFFSETTO:-0400
TZNAME:EDT
DTSTART:20250309T070000
END:DAYLIGHT
BEGIN:STANDARD
TZOFFSETFROM:-0400
TZOFFSETTO:-0500
TZNAME:EST
DTSTART:20251102T060000
END:STANDARD
BEGIN:DAYLIGHT
TZOFFSETFROM:-0500
TZOFFSETTO:-0400
TZNAME:EDT
DTSTART:20260308T070000
END:DAYLIGHT
BEGIN:STANDARD
TZOFFSETFROM:-0400
TZOFFSETTO:-0500
TZNAME:EST
DTSTART:20261101T060000
END:STANDARD
END:VTIMEZONE
BEGIN:VEVENT
DTSTART;TZID=America/New_York:20250404T180000
DTEND;TZID=America/New_York:20250404T220000
DTSTAMP:20260424T071951
CREATED:20250201T155503Z
LAST-MODIFIED:20250311T203955Z
UID:4080-1743789600-1743804000@oakeralumni.org
SUMMARY:SOLD OUT - Meal Works/Jacques Family Memorial Scholarship Fundraiser Dinner
DESCRIPTION:Meal Works will be having a dinner at the PNA on April 4\, 2025 at 6pm to raise funds for the Jacques Family Memorial Scholarship. \nTickets are $20 and includes dinner and music.  You can purchase a ticket by clicking on the ticket image below. \n 
URL:https://oakeralumni.org/event/meal-works-jacques-family-memorial-scholarship-fundraiser-dinner/
LOCATION:Anthony PNA\, 15 Meeting St\, Coventry\, 02816\, United States
END:VEVENT
END:VCALENDAR