BEGIN:VCALENDAR
VERSION:2.0
PRODID:-//Coventry High School Alumni Association, Inc. - ECPv6.15.13//NONSGML v1.0//EN
CALSCALE:GREGORIAN
METHOD:PUBLISH
X-ORIGINAL-URL:https://oakeralumni.org
X-WR-CALDESC:Events for Coventry High School Alumni Association, Inc.
REFRESH-INTERVAL;VALUE=DURATION:PT1H
X-Robots-Tag:noindex
X-PUBLISHED-TTL:PT1H
BEGIN:VTIMEZONE
TZID:America/New_York
BEGIN:DAYLIGHT
TZOFFSETFROM:-0500
TZOFFSETTO:-0400
TZNAME:EDT
DTSTART:20230312T070000
END:DAYLIGHT
BEGIN:STANDARD
TZOFFSETFROM:-0400
TZOFFSETTO:-0500
TZNAME:EST
DTSTART:20231105T060000
END:STANDARD
BEGIN:DAYLIGHT
TZOFFSETFROM:-0500
TZOFFSETTO:-0400
TZNAME:EDT
DTSTART:20240310T070000
END:DAYLIGHT
BEGIN:STANDARD
TZOFFSETFROM:-0400
TZOFFSETTO:-0500
TZNAME:EST
DTSTART:20241103T060000
END:STANDARD
BEGIN:DAYLIGHT
TZOFFSETFROM:-0500
TZOFFSETTO:-0400
TZNAME:EDT
DTSTART:20250309T070000
END:DAYLIGHT
BEGIN:STANDARD
TZOFFSETFROM:-0400
TZOFFSETTO:-0500
TZNAME:EST
DTSTART:20251102T060000
END:STANDARD
END:VTIMEZONE
BEGIN:VEVENT
DTSTART;TZID=America/New_York:20240127T090000
DTEND;TZID=America/New_York:20240127T110000
DTSTAMP:20260425T064427
CREATED:20231129T181434Z
LAST-MODIFIED:20231129T181434Z
UID:3737-1706346000-1706353200@oakeralumni.org
SUMMARY:CHSAA Breakfast
DESCRIPTION:CHSAA will be having a breakfast at Olde Theater Diner on Jan 17th\, 2024 from 9am-11am. \nPlease consider joining us\, you can purchase tickets by clicking on the link below. \nTickets
URL:https://oakeralumni.org/event/chsaa-breakfast/
LOCATION:Olde Theater Diner
END:VEVENT
END:VCALENDAR